BEGIN:VCALENDAR
VERSION:2.0
PRODID:-//Stadt Weißensee - ECPv6.15.20//NONSGML v1.0//EN
CALSCALE:GREGORIAN
METHOD:PUBLISH
X-WR-CALNAME:Stadt Weißensee
X-ORIGINAL-URL:https://www.weissensee.de
X-WR-CALDESC:Veranstaltungen für Stadt Weißensee
REFRESH-INTERVAL;VALUE=DURATION:PT1H
X-Robots-Tag:noindex
X-PUBLISHED-TTL:PT1H
BEGIN:VTIMEZONE
TZID:Europe/Berlin
BEGIN:DAYLIGHT
TZOFFSETFROM:+0100
TZOFFSETTO:+0200
TZNAME:CEST
DTSTART:20250330T010000
END:DAYLIGHT
BEGIN:STANDARD
TZOFFSETFROM:+0200
TZOFFSETTO:+0100
TZNAME:CET
DTSTART:20251026T010000
END:STANDARD
BEGIN:DAYLIGHT
TZOFFSETFROM:+0100
TZOFFSETTO:+0200
TZNAME:CEST
DTSTART:20260329T010000
END:DAYLIGHT
BEGIN:STANDARD
TZOFFSETFROM:+0200
TZOFFSETTO:+0100
TZNAME:CET
DTSTART:20261025T010000
END:STANDARD
BEGIN:DAYLIGHT
TZOFFSETFROM:+0100
TZOFFSETTO:+0200
TZNAME:CEST
DTSTART:20270328T010000
END:DAYLIGHT
BEGIN:STANDARD
TZOFFSETFROM:+0200
TZOFFSETTO:+0100
TZNAME:CET
DTSTART:20271031T010000
END:STANDARD
END:VTIMEZONE
BEGIN:VEVENT
DTSTART;TZID=Europe/Berlin:20260418T190000
DTEND;TZID=Europe/Berlin:20260418T190000
DTSTAMP:20260419T165953
CREATED:20250530T180006Z
LAST-MODIFIED:20260408T145144Z
UID:437-1776538800-1776538800@www.weissensee.de
SUMMARY:Konzert Thüringer Bachwochen
DESCRIPTION:Bach in Sanssouci\nEs ist ein Gipfeltreffen der Musikgeschichte\, als der alte Bach\, auf Besuch beim Sohn\, 1747 in Potsdam vor Friedrich dem Großen spielt. Dabei lernt er auch Carl Philipp Emanuels Kollegen in der Hofkapelle kennen\, die in Sanssouci – hinter dem Rücken des Königs – längst die Musik einer neuen Zeit vorbereiten. Revolution! Blockflötistin Dorothee Oberlinger\, Leiterin der Musikfestspiele Potsdam Sanssouci\, lässt die Hofkapelle des Königs in diesem Konzert lebendig werden. \nInterpreten\nEnsemble 1700 \n\nEmiliano Rodolfi – Oboe und Blockflöte\nEvgeni Sviridov – Violine\nAnna Dmitrieva – Violine\nChristian Voß – Violine\nGabrielle Kancachian – Viola\nGuido Larisch – Violoncello\nKit Scotney – Kontrabass\nAxel Wolf – Laute\nOlga Watts – Cembalo und Orgel\n\nDorothee Oberlinger – Blockflöte und Leitung \nWerke\nOuvertüren\, Trios und Concerti von \nChristoph Schaffrath\, Johann Joachim Quantz\, Carl Heinrich und Johann Gottlieb Graun\, Johann Gottlieb Janitsch\, Carl Philipp Emanuel Bach \nund Johann Sebastian Bach
URL:https://www.weissensee.de/veranstaltung/konzert-thueringer-bachwochen/
LOCATION:Kulturkirche St. Peter und Paul in Weißensee\, Kirchplatz 1\, Weißensee\, Thüringen\, 99631\, Germany
CATEGORIES:Konzert
ORGANIZER;CN="Th%C3%BCringer Bachwochen e.V.":MAILTO:info@thueringer-bachwochen.de
END:VEVENT
BEGIN:VEVENT
DTSTART;TZID=Europe/Berlin:20260418T140000
DTEND;TZID=Europe/Berlin:20260418T140000
DTSTAMP:20260419T165953
CREATED:20260415T062832Z
LAST-MODIFIED:20260415T062916Z
UID:5973-1776520800-1776520800@www.weissensee.de
SUMMARY:Musikalische Frühlingsandacht
DESCRIPTION:Kirche St. Martin in Herrnschwende \nEs laden ein: Projektsingkreis und Pfarrer Thomas Marcak für den Kirchengemeindeverband Kindelbrück – Weißensee & die Landfrauen Herrnschwende. \nAnschließend Kaffee und Kuchen sowie Basteln für Kinder im Gemeindehaus.
URL:https://www.weissensee.de/veranstaltung/musikalische-fruehlingsandacht/
LOCATION:Bürgerhaus Herrnschwende\, Im Dorf 43\, Weißensee\, OT Herrnschwende\, Thüringen\, 99631\, Germany
END:VEVENT
END:VCALENDAR