BEGIN:VCALENDAR
VERSION:2.0
PRODID:-//Stadt Weißensee - ECPv6.15.20//NONSGML v1.0//EN
CALSCALE:GREGORIAN
METHOD:PUBLISH
X-ORIGINAL-URL:https://www.weissensee.de
X-WR-CALDESC:Veranstaltungen für Stadt Weißensee
REFRESH-INTERVAL;VALUE=DURATION:PT1H
X-Robots-Tag:noindex
X-PUBLISHED-TTL:PT1H
BEGIN:VTIMEZONE
TZID:Europe/Berlin
BEGIN:DAYLIGHT
TZOFFSETFROM:+0100
TZOFFSETTO:+0200
TZNAME:CEST
DTSTART:20250330T010000
END:DAYLIGHT
BEGIN:STANDARD
TZOFFSETFROM:+0200
TZOFFSETTO:+0100
TZNAME:CET
DTSTART:20251026T010000
END:STANDARD
BEGIN:DAYLIGHT
TZOFFSETFROM:+0100
TZOFFSETTO:+0200
TZNAME:CEST
DTSTART:20260329T010000
END:DAYLIGHT
BEGIN:STANDARD
TZOFFSETFROM:+0200
TZOFFSETTO:+0100
TZNAME:CET
DTSTART:20261025T010000
END:STANDARD
BEGIN:DAYLIGHT
TZOFFSETFROM:+0100
TZOFFSETTO:+0200
TZNAME:CEST
DTSTART:20270328T010000
END:DAYLIGHT
BEGIN:STANDARD
TZOFFSETFROM:+0200
TZOFFSETTO:+0100
TZNAME:CET
DTSTART:20271031T010000
END:STANDARD
END:VTIMEZONE
BEGIN:VEVENT
DTSTART;TZID=Europe/Berlin:20260613T180000
DTEND;TZID=Europe/Berlin:20260613T180000
DTSTAMP:20260419T214754
CREATED:20260408T091205Z
LAST-MODIFIED:20260408T091741Z
UID:5883-1781373600-1781373600@www.weissensee.de
SUMMARY:Konzert der Thüringen Philharmonie Gotha-Eisenach
DESCRIPTION:Konzert „Im Paradiesgarten der Klänge“\nKulturkirche St. Peter und Paul Weißensee\nDIRIGENT/MODERATOR | Russell Harris\nTENOR | Aco Bišćević\nSOPRAN | Nataliia Shumska \nGIACOMO PUCCINI | Auszüge aus den Opern „Turandot“ und „Madama Butterfly“\nFRANZ LÉHAR | Auszüge aus der Operette „Das Land des Lächelns“\nCHRISTOPH WILLIBALD GLUCK | Auszüge aus der Oper „Le cinesi“\nFREDERICK DELIUS | In a Summer Garden\nANTONÍN DVOŘÁK | Lied an den Mond aus der Oper „Rusalka“\nALEXANDER BBORODIN | „Eine Steppenskizze aus Mittelasien“ – Sinfonische Dichtung \n– Änderungen vorbehalten. – \n 
URL:https://www.weissensee.de/veranstaltung/konzert-der-thueringen-philharmonie-gotha-eisenach/
LOCATION:Kulturkirche St. Peter und Paul in Weißensee\, Kirchplatz 1\, Weißensee\, Thüringen\, 99631\, Germany
END:VEVENT
END:VCALENDAR