BEGIN:VCALENDAR
VERSION:2.0
PRODID:-//Stadt Weißensee - ECPv6.15.20//NONSGML v1.0//EN
CALSCALE:GREGORIAN
METHOD:PUBLISH
X-ORIGINAL-URL:https://www.weissensee.de
X-WR-CALDESC:Veranstaltungen für Stadt Weißensee
REFRESH-INTERVAL;VALUE=DURATION:PT1H
X-Robots-Tag:noindex
X-PUBLISHED-TTL:PT1H
BEGIN:VTIMEZONE
TZID:Europe/Berlin
BEGIN:DAYLIGHT
TZOFFSETFROM:+0100
TZOFFSETTO:+0200
TZNAME:CEST
DTSTART:20250330T010000
END:DAYLIGHT
BEGIN:STANDARD
TZOFFSETFROM:+0200
TZOFFSETTO:+0100
TZNAME:CET
DTSTART:20251026T010000
END:STANDARD
BEGIN:DAYLIGHT
TZOFFSETFROM:+0100
TZOFFSETTO:+0200
TZNAME:CEST
DTSTART:20260329T010000
END:DAYLIGHT
BEGIN:STANDARD
TZOFFSETFROM:+0200
TZOFFSETTO:+0100
TZNAME:CET
DTSTART:20261025T010000
END:STANDARD
BEGIN:DAYLIGHT
TZOFFSETFROM:+0100
TZOFFSETTO:+0200
TZNAME:CEST
DTSTART:20270328T010000
END:DAYLIGHT
BEGIN:STANDARD
TZOFFSETFROM:+0200
TZOFFSETTO:+0100
TZNAME:CET
DTSTART:20271031T010000
END:STANDARD
END:VTIMEZONE
BEGIN:VEVENT
DTSTART;TZID=Europe/Berlin:20260430T190000
DTEND;TZID=Europe/Berlin:20260430T190000
DTSTAMP:20260419T182214
CREATED:20260415T063423Z
LAST-MODIFIED:20260415T063632Z
UID:5977-1777575600-1777575600@www.weissensee.de
SUMMARY:Maifeuer
DESCRIPTION:Der WKV lädt herzlich zum traditionellen Maifeuer und zum Familien-Frühshoppen ein.\nAm 30. April ab 19 Uhr verwandelt sich der Festplatz am Gondelteich in einen stimmungsvollen Treffpunkt für alle\, die gemeinsam in den Mai feiern möchten. Im Festzelt sorgt DJ Alex für beste Unterhaltung und lädt zum Tanzen und Verweilen ein. Ein besonderes Highlight erwartet die Gäste in der Abenddämmerung: Die Trommelgruppe des WKV eröffnet feierlich den Fackelumzug. Wenn das Feuer brennt\, gibt es kleine tänzerische Überraschungen von den Tanzgruppen des Vereins. \nDer Eintritt beträgt für Erwachsene 5 Euro\, Der Eintritt beträgt für Erwachsene 5 Euro\, Kinder und Jugendliche bis 16 Jahre haben freien Eintritt.
URL:https://www.weissensee.de/veranstaltung/maifeuer/
LOCATION:Festwiese am Gondelteich\, Naherholungsgebiet am Gondelteich\, Weißensee\, Thüringen\, 99631\, Germany
ORGANIZER;CN="Wei%C3%9Fenseer Karnevalverein e. V.":MAILTO:mail@wkv-weissensee.de
END:VEVENT
END:VCALENDAR