BEGIN:VCALENDAR
VERSION:2.0
PRODID:-//Stadt Weißensee - ECPv6.15.20//NONSGML v1.0//EN
CALSCALE:GREGORIAN
METHOD:PUBLISH
X-WR-CALNAME:Stadt Weißensee
X-ORIGINAL-URL:https://www.weissensee.de/en/
X-WR-CALDESC:Events for Stadt Weißensee
REFRESH-INTERVAL;VALUE=DURATION:PT1H
X-Robots-Tag:noindex
X-PUBLISHED-TTL:PT1H
BEGIN:VTIMEZONE
TZID:Europe/Berlin
BEGIN:DAYLIGHT
TZOFFSETFROM:+0100
TZOFFSETTO:+0200
TZNAME:CEST
DTSTART:20250330T010000
END:DAYLIGHT
BEGIN:STANDARD
TZOFFSETFROM:+0200
TZOFFSETTO:+0100
TZNAME:CET
DTSTART:20251026T010000
END:STANDARD
BEGIN:DAYLIGHT
TZOFFSETFROM:+0100
TZOFFSETTO:+0200
TZNAME:CEST
DTSTART:20260329T010000
END:DAYLIGHT
BEGIN:STANDARD
TZOFFSETFROM:+0200
TZOFFSETTO:+0100
TZNAME:CET
DTSTART:20261025T010000
END:STANDARD
BEGIN:DAYLIGHT
TZOFFSETFROM:+0100
TZOFFSETTO:+0200
TZNAME:CEST
DTSTART:20270328T010000
END:DAYLIGHT
BEGIN:STANDARD
TZOFFSETFROM:+0200
TZOFFSETTO:+0100
TZNAME:CET
DTSTART:20271031T010000
END:STANDARD
END:VTIMEZONE
BEGIN:VEVENT
DTSTART;TZID=Europe/Berlin:20260430T190000
DTEND;TZID=Europe/Berlin:20260430T190000
DTSTAMP:20260419T230700
CREATED:20260415T063423Z
LAST-MODIFIED:20260415T063423Z
UID:5979-1777575600-1777575600@www.weissensee.de
SUMMARY:May bonfire
DESCRIPTION:The WKV cordially invites you to the traditional May bonfire and family morning pint.\nOn April 30 from 7 p.m.\, the festival site at the gondola pond will be transformed into an atmospheric meeting place for everyone who wants to celebrate May together. DJ Alex will provide the best entertainment in the marquee\, inviting you to dance and linger. A special highlight awaits guests at dusk: the WKV drum group ceremoniously opens the torchlight procession. As the fire burns\, there are little dance surprises from the club’s dance groups.    \nAdmission for adults is 5 euros\, admission for children and young people up to the age of 16 is free.
URL:https://www.weissensee.de/en/veranstaltung/may-bonfire/
LOCATION:Festival meadow at the gondola pond\, Local recreation area at the gondola pond\, Weißensee\, Thuringia\, 99631\, Germany
ORGANIZER;CN="Wei%C3%9Fenseer Karnevalverein e. V.":MAILTO:mail@wkv-weissensee.de
END:VEVENT
BEGIN:VEVENT
DTSTART;TZID=Europe/Berlin:20260501T100000
DTEND;TZID=Europe/Berlin:20260501T100000
DTSTAMP:20260419T230700
CREATED:20260415T064030Z
LAST-MODIFIED:20260415T064030Z
UID:5982-1777629600-1777629600@www.weissensee.de
SUMMARY:Family morning pint on May 1
DESCRIPTION:Visitors can look forward to hearty music\, a good atmosphere and a varied offer for the whole family. Whether it’s delicious food from the barbecue\, sandwiches\, chips or currywurst – there’s plenty to eat and drink.\nThere’s also plenty for younger guests to discover: a large combine harvester bouncy castle\, face painting\, goal wall shooting and sweet waffles on a stick ensure fun\, games and smiling faces. An additional highlight on both days is the open tent cinema\, where photos and videos from the past carnival season are shown on the big screen.
URL:https://www.weissensee.de/en/veranstaltung/family-morning-pint-on-may-1/
LOCATION:Festival meadow at the gondola pond\, Local recreation area at the gondola pond\, Weißensee\, Thuringia\, 99631\, Germany
ORGANIZER;CN="Wei%C3%9Fenseer Karnevalverein e. V.":MAILTO:mail@wkv-weissensee.de
END:VEVENT
BEGIN:VEVENT
DTSTART;TZID=Europe/Berlin:20260509T190000
DTEND;TZID=Europe/Berlin:20260509T190000
DTSTAMP:20260419T230700
CREATED:20260408T120916Z
LAST-MODIFIED:20260409T091338Z
UID:5905-1778353200-1778353200@www.weissensee.de
SUMMARY:Trio "Hopfenstreich & Saitenreich"
DESCRIPTION:Songs and stories from the last 800 years – the trio creates a great atmosphere and a good mood. \n 
URL:https://www.weissensee.de/en/veranstaltung/trio-hopfenstreich-saitenreich/
LOCATION:Church of St. Salvator\, Waltersdorf\, Village road\, Weißensee OT Waltersdorf\, Thuringia\, 99631\, Germany
ORGANIZER;CN="Heimatverein Waltersdorf e. V.":MAILTO:Heimatverein-Waltersdorf@gmx.de
END:VEVENT
BEGIN:VEVENT
DTSTART;TZID=Europe/Berlin:20260613T180000
DTEND;TZID=Europe/Berlin:20260613T180000
DTSTAMP:20260419T230700
CREATED:20260408T091205Z
LAST-MODIFIED:20260408T091647Z
UID:5885-1781373600-1781373600@www.weissensee.de
SUMMARY:Concert by the Thuringia Philharmonic Orchestra Gotha-Eisenach
DESCRIPTION:Concert “In the paradise garden of sounds”\nCultural Church of St. Peter and Paul Weißensee\nDIRECTOR/MODERATOR | Russell Harris\nTENOR | Aco Bišćević\nSOPRAN | Nataliia Shumska \nGIACOMO PUCCINI | Excerpts from the operas “Turandot” and “Madama Butterfly”\nFRANZ LÉHAR | Excerpts from the operetta “The Land of Smiles”\nCHRISTOPH WILLIBALD GLUCK | Excerpts from the opera “Le cinesi”\nFREDERICK DELIUS | In a Summer Garden\nANTONÍN DVOŘÁK | Song to the Moon from the opera “Rusalka”\nALEXANDER BBORODIN | “A Steppe Sketch from Central Asia” – Symphonic Poem \n– Subject to change without notice. – \n 
URL:https://www.weissensee.de/en/veranstaltung/concert-by-the-thuringia-philharmonic-orchestra-gotha-eisenach/
LOCATION:Cultural church of St. Peter and Paul in Weißensee\, Church square 1\, Weißensee\, Thuringia\, 99631\, Germany
END:VEVENT
BEGIN:VEVENT
DTSTART;TZID=Europe/Berlin:20260828T193000
DTEND;TZID=Europe/Berlin:20260828T193000
DTSTAMP:20260419T230700
CREATED:20260305T020812Z
LAST-MODIFIED:20260305T021152Z
UID:5842-1787945400-1787945400@www.weissensee.de
SUMMARY:MDR Music Summer 2026 - Vivaldi
DESCRIPTION:Georg Philipp Telemann:Concerto in A major for violin\, strings and basso continuo TWV 51: A4\nWolfgang Amadeus Mozart:Divertimento in D major KV 136\nAntonio Vivaldi: “The Four Seasons” Concertos for violin\, strings and basso continuo op. 8\n\n\nMembers of the MDR Symphony Orchestra\n\n\nAlena Baeva | violin\n\nFew works embody the connection between music and nature as impressively as Antonio Vivaldi’s Four Seasons. The cycle of the year unfolds in four violin concertos – from the tender awakening of spring to the shimmering heat of summer and the fullness of fall to the frosty clarity of winter. Vivaldi prefaced each concerto with a sonnet – presumably from his own pen. These verses describe scenes from country life\, weather phenomena and moods and thus provide the poetic key with which Vivaldi’s sound images are revealed. In the soulful interpretation of violinist Alena Baeva\, you can expect a unique listening experience of baroque program music!
URL:https://www.weissensee.de/en/veranstaltung/mdr-music-summer-2026-vivaldi/
LOCATION:Cultural church of St. Peter and Paul in Weißensee\, Church square 1\, Weißensee\, Thuringia\, 99631\, Germany
CATEGORIES:Concert
ORGANIZER;CN="MDR Music Summer":MAILTO:Publikumsservice@mdr.de
END:VEVENT
END:VCALENDAR