BEGIN:VCALENDAR
VERSION:2.0
PRODID:-//Stadt Weißensee - ECPv6.15.20//NONSGML v1.0//EN
CALSCALE:GREGORIAN
METHOD:PUBLISH
X-WR-CALNAME:Stadt Weißensee
X-ORIGINAL-URL:https://www.weissensee.de/en/
X-WR-CALDESC:Events for Stadt Weißensee
REFRESH-INTERVAL;VALUE=DURATION:PT1H
X-Robots-Tag:noindex
X-PUBLISHED-TTL:PT1H
BEGIN:VTIMEZONE
TZID:Europe/Berlin
BEGIN:DAYLIGHT
TZOFFSETFROM:+0100
TZOFFSETTO:+0200
TZNAME:CEST
DTSTART:20250330T010000
END:DAYLIGHT
BEGIN:STANDARD
TZOFFSETFROM:+0200
TZOFFSETTO:+0100
TZNAME:CET
DTSTART:20251026T010000
END:STANDARD
BEGIN:DAYLIGHT
TZOFFSETFROM:+0100
TZOFFSETTO:+0200
TZNAME:CEST
DTSTART:20260329T010000
END:DAYLIGHT
BEGIN:STANDARD
TZOFFSETFROM:+0200
TZOFFSETTO:+0100
TZNAME:CET
DTSTART:20261025T010000
END:STANDARD
BEGIN:DAYLIGHT
TZOFFSETFROM:+0100
TZOFFSETTO:+0200
TZNAME:CEST
DTSTART:20270328T010000
END:DAYLIGHT
BEGIN:STANDARD
TZOFFSETFROM:+0200
TZOFFSETTO:+0100
TZNAME:CET
DTSTART:20271031T010000
END:STANDARD
END:VTIMEZONE
BEGIN:VEVENT
DTSTART;TZID=Europe/Berlin:20260418T190000
DTEND;TZID=Europe/Berlin:20260418T190000
DTSTAMP:20260420T022118
CREATED:20250530T180006Z
LAST-MODIFIED:20260408T145150Z
UID:5665-1776538800-1776538800@www.weissensee.de
SUMMARY:Concert Thuringian Bach Weeks
DESCRIPTION:Bach in Sanssouci\nIt is a summit meeting in music history when the old Bach\, on a visit to his son\, plays for Frederick the Great in Potsdam in 1747. He also gets to know Carl Philipp Emanuel’s colleagues in the court chapel\, who have long been preparing the music of a new era in Sanssouci – behind the king’s back. Revolution! Recorder player Dorothee Oberlinger\, director of the Potsdam Sanssouci Music Festival\, brings the king’s court chapel to life in this concert. \nInterpreters\nEnsemble 1700 \n\nEmiliano Rodolfi – oboe and recorder\nEvgeni Sviridov – violin\nAnna Dmitrieva – Violin\nChristian Voß – Violin\nGabrielle Kancachian – Viola\nGuido Larisch – Violoncello\nKit Scotney – double bass\nAxel Wolf – Lute\nOlga Watts – harpsichord and organ\n\nDorothee Oberlinger – recorder and conductor \nWorks\nOvertures\, trios and concerti by \nChristoph Schaffrath\, Johann Joachim Quantz\, Carl Heinrich and Johann Gottlieb Graun\, Johann Gottlieb Janitsch\, Carl Philipp Emanuel Bach \nand Johann Sebastian Bach
URL:https://www.weissensee.de/en/veranstaltung/concert-thuringian-bach-weeks/
LOCATION:Cultural church of St. Peter and Paul in Weißensee\, Church square 1\, Weißensee\, Thuringia\, 99631\, Germany
CATEGORIES:Concert
ORGANIZER;CN="Th%C3%BCringer Bachwochen e.V.":MAILTO:info@thueringer-bachwochen.de
END:VEVENT
BEGIN:VEVENT
DTSTART;TZID=Europe/Berlin:20260418T140000
DTEND;TZID=Europe/Berlin:20260418T140000
DTSTAMP:20260420T022118
CREATED:20260415T062832Z
LAST-MODIFIED:20260415T062832Z
UID:5976-1776520800-1776520800@www.weissensee.de
SUMMARY:Musical spring devotion
DESCRIPTION:Church of St. Martin in Herrnschwende \nInvitations: Project singing group and Pastor Thomas Marcak for the Kindelbrück – Weißensee parish association & the Herrnschwende countrywomen. \nFollowed by coffee and cake and crafts for children in the parish hall.
URL:https://www.weissensee.de/en/veranstaltung/musical-spring-devotion/
LOCATION:Herrnschwende community center\, In the village 43\, Weißensee\, OT Herrnschwende\, Thuringia\, 99631\, Germany
END:VEVENT
END:VCALENDAR