BEGIN:VCALENDAR
VERSION:2.0
PRODID:-//Stadt Weißensee - ECPv6.15.20//NONSGML v1.0//EN
CALSCALE:GREGORIAN
METHOD:PUBLISH
X-WR-CALNAME:Stadt Weißensee
X-ORIGINAL-URL:https://www.weissensee.de/en/
X-WR-CALDESC:Events for Stadt Weißensee
REFRESH-INTERVAL;VALUE=DURATION:PT1H
X-Robots-Tag:noindex
X-PUBLISHED-TTL:PT1H
BEGIN:VTIMEZONE
TZID:Europe/Berlin
BEGIN:DAYLIGHT
TZOFFSETFROM:+0100
TZOFFSETTO:+0200
TZNAME:CEST
DTSTART:20250330T010000
END:DAYLIGHT
BEGIN:STANDARD
TZOFFSETFROM:+0200
TZOFFSETTO:+0100
TZNAME:CET
DTSTART:20251026T010000
END:STANDARD
BEGIN:DAYLIGHT
TZOFFSETFROM:+0100
TZOFFSETTO:+0200
TZNAME:CEST
DTSTART:20260329T010000
END:DAYLIGHT
BEGIN:STANDARD
TZOFFSETFROM:+0200
TZOFFSETTO:+0100
TZNAME:CET
DTSTART:20261025T010000
END:STANDARD
BEGIN:DAYLIGHT
TZOFFSETFROM:+0100
TZOFFSETTO:+0200
TZNAME:CEST
DTSTART:20270328T010000
END:DAYLIGHT
BEGIN:STANDARD
TZOFFSETFROM:+0200
TZOFFSETTO:+0100
TZNAME:CET
DTSTART:20271031T010000
END:STANDARD
END:VTIMEZONE
BEGIN:VEVENT
DTSTART;TZID=Europe/Berlin:20260509T190000
DTEND;TZID=Europe/Berlin:20260509T190000
DTSTAMP:20260419T212533
CREATED:20260408T120916Z
LAST-MODIFIED:20260409T091338Z
UID:5905-1778353200-1778353200@www.weissensee.de
SUMMARY:Trio "Hopfenstreich & Saitenreich"
DESCRIPTION:Songs and stories from the last 800 years – the trio creates a great atmosphere and a good mood. \n 
URL:https://www.weissensee.de/en/veranstaltung/trio-hopfenstreich-saitenreich/
LOCATION:Church of St. Salvator\, Waltersdorf\, Village road\, Weißensee OT Waltersdorf\, Thuringia\, 99631\, Germany
ORGANIZER;CN="Heimatverein Waltersdorf e. V.":MAILTO:Heimatverein-Waltersdorf@gmx.de
END:VEVENT
END:VCALENDAR