BEGIN:VCALENDAR
VERSION:2.0
PRODID:-//Stadt Weißensee - ECPv6.15.20//NONSGML v1.0//EN
CALSCALE:GREGORIAN
METHOD:PUBLISH
X-ORIGINAL-URL:https://www.weissensee.de/en/
X-WR-CALDESC:Events for Stadt Weißensee
REFRESH-INTERVAL;VALUE=DURATION:PT1H
X-Robots-Tag:noindex
X-PUBLISHED-TTL:PT1H
BEGIN:VTIMEZONE
TZID:Europe/Berlin
BEGIN:DAYLIGHT
TZOFFSETFROM:+0100
TZOFFSETTO:+0200
TZNAME:CEST
DTSTART:20250330T010000
END:DAYLIGHT
BEGIN:STANDARD
TZOFFSETFROM:+0200
TZOFFSETTO:+0100
TZNAME:CET
DTSTART:20251026T010000
END:STANDARD
BEGIN:DAYLIGHT
TZOFFSETFROM:+0100
TZOFFSETTO:+0200
TZNAME:CEST
DTSTART:20260329T010000
END:DAYLIGHT
BEGIN:STANDARD
TZOFFSETFROM:+0200
TZOFFSETTO:+0100
TZNAME:CET
DTSTART:20261025T010000
END:STANDARD
BEGIN:DAYLIGHT
TZOFFSETFROM:+0100
TZOFFSETTO:+0200
TZNAME:CEST
DTSTART:20270328T010000
END:DAYLIGHT
BEGIN:STANDARD
TZOFFSETFROM:+0200
TZOFFSETTO:+0100
TZNAME:CET
DTSTART:20271031T010000
END:STANDARD
END:VTIMEZONE
BEGIN:VEVENT
DTSTART;TZID=Europe/Berlin:20260430T190000
DTEND;TZID=Europe/Berlin:20260430T190000
DTSTAMP:20260419T195211
CREATED:20260415T063423Z
LAST-MODIFIED:20260415T063423Z
UID:5979-1777575600-1777575600@www.weissensee.de
SUMMARY:May bonfire
DESCRIPTION:The WKV cordially invites you to the traditional May bonfire and family morning pint.\nOn April 30 from 7 p.m.\, the festival site at the gondola pond will be transformed into an atmospheric meeting place for everyone who wants to celebrate May together. DJ Alex will provide the best entertainment in the marquee\, inviting you to dance and linger. A special highlight awaits guests at dusk: the WKV drum group ceremoniously opens the torchlight procession. As the fire burns\, there are little dance surprises from the club’s dance groups.    \nAdmission for adults is 5 euros\, admission for children and young people up to the age of 16 is free.
URL:https://www.weissensee.de/en/veranstaltung/may-bonfire/
LOCATION:Festival meadow at the gondola pond\, Local recreation area at the gondola pond\, Weißensee\, Thuringia\, 99631\, Germany
ORGANIZER;CN="Wei%C3%9Fenseer Karnevalverein e. V.":MAILTO:mail@wkv-weissensee.de
END:VEVENT
END:VCALENDAR